Package: GOSemSim Version: 2.33.0 Command: /home/rapidbuild/bbs-3.21-bioc-rapid/R/bin/R CMD INSTALL GOSemSim StartedAt: 2025-01-31 06:21:52 -0500 (Fri, 31 Jan 2025) EndedAt: 2025-01-31 06:22:11 -0500 (Fri, 31 Jan 2025) EllapsedTime: 19.2 seconds RetCode: 0 Status: OK