Package: GOSemSim Version: 2.33.0 Command: /home/rapidbuild/bbs-3.21-bioc-rapid/R/bin/R CMD build --keep-empty-dirs --no-resave-data GOSemSim StartedAt: 2025-01-31 06:58:54 -0500 (Fri, 31 Jan 2025) EndedAt: 2025-01-31 06:59:16 -0500 (Fri, 31 Jan 2025) EllapsedTime: 22.3 seconds RetCode: 0 Status: OK PackageFile: GOSemSim_2.33.0.tar.gz PackageFileSize: 594.7 KiB