Package: ExperimentHubData Version: 1.33.0 Command: /home/rapidbuild/bbs-3.21-bioc-rapid/R/bin/R CMD build --keep-empty-dirs --no-resave-data ExperimentHubData StartedAt: 2025-01-31 06:48:11 -0500 (Fri, 31 Jan 2025) EndedAt: 2025-01-31 06:48:49 -0500 (Fri, 31 Jan 2025) EllapsedTime: 38.0 seconds RetCode: 0 Status: OK PackageFile: ExperimentHubData_1.33.0.tar.gz PackageFileSize: 223 KiB