Package: ExperimentHub Version: 2.15.0 Command: /home/rapidbuild/bbs-3.21-bioc-rapid/R/bin/R CMD check --install=check:ExperimentHub.install-out.txt --library=/home/rapidbuild/bbs-3.21-bioc-rapid/R/site-library --timings ExperimentHub_2.15.0.tar.gz StartedAt: 2025-01-31 08:25:04 -0500 (Fri, 31 Jan 2025) EndedAt: 2025-01-31 08:26:38 -0500 (Fri, 31 Jan 2025) EllapsedTime: 94.3 seconds RetCode: 0 Status: WARNINGS CheckDir: ExperimentHub.Rcheck Warnings: 1