Package: ExperimentHub Version: 2.15.0 Command: /home/rapidbuild/bbs-3.21-bioc-rapid/R/bin/R CMD build --keep-empty-dirs --no-resave-data ExperimentHub StartedAt: 2025-01-31 06:47:43 -0500 (Fri, 31 Jan 2025) EndedAt: 2025-01-31 06:48:11 -0500 (Fri, 31 Jan 2025) EllapsedTime: 28.0 seconds RetCode: 0 Status: OK PackageFile: ExperimentHub_2.15.0.tar.gz PackageFileSize: 489 KiB