Package: EnrichedHeatmap Version: 1.37.0 Command: /home/rapidbuild/bbs-3.21-bioc-rapid/R/bin/R CMD check --install=check:EnrichedHeatmap.install-out.txt --library=/home/rapidbuild/bbs-3.21-bioc-rapid/R/site-library --timings EnrichedHeatmap_1.37.0.tar.gz StartedAt: 2025-01-31 08:22:32 -0500 (Fri, 31 Jan 2025) EndedAt: 2025-01-31 08:27:26 -0500 (Fri, 31 Jan 2025) EllapsedTime: 294.6 seconds RetCode: 0 Status: OK CheckDir: EnrichedHeatmap.Rcheck Warnings: 0