############################################################################## ############################################################################## ### ### Running command: ### ### /home/rapidbuild/bbs-3.21-bioc-rapid/R/bin/R CMD build --keep-empty-dirs --no-resave-data EnhancedVolcano ### ############################################################################## ############################################################################## Fatal error: cannot create 'R_TempDir'