Package: DynDoc Version: 1.85.0 Command: /home/rapidbuild/bbs-3.21-bioc-rapid/R/bin/R CMD INSTALL DynDoc StartedAt: 2025-01-31 06:06:12 -0500 (Fri, 31 Jan 2025) EndedAt: 2025-01-31 06:06:15 -0500 (Fri, 31 Jan 2025) EllapsedTime: 3.0 seconds RetCode: 0 Status: OK