Package: DynDoc Version: 1.85.0 Command: /home/rapidbuild/bbs-3.21-bioc-rapid/R/bin/R CMD check --install=check:DynDoc.install-out.txt --library=/home/rapidbuild/bbs-3.21-bioc-rapid/R/site-library --timings DynDoc_1.85.0.tar.gz StartedAt: 2025-02-07 02:21:48 -0500 (Fri, 07 Feb 2025) EndedAt: 2025-02-07 02:22:06 -0500 (Fri, 07 Feb 2025) EllapsedTime: 18.0 seconds RetCode: 0 Status: WARNINGS CheckDir: DynDoc.Rcheck Warnings: 1