Package: DynDoc Version: 1.85.0 Command: /home/rapidbuild/bbs-3.21-bioc-rapid/R/bin/R CMD build --keep-empty-dirs --no-resave-data DynDoc StartedAt: 2025-01-31 06:45:40 -0500 (Fri, 31 Jan 2025) EndedAt: 2025-01-31 06:45:41 -0500 (Fri, 31 Jan 2025) EllapsedTime: 1.0 seconds RetCode: 0 Status: OK PackageFile: DynDoc_1.85.0.tar.gz PackageFileSize: 10.97 KiB