Package: DirichletMultinomial Version: 1.49.0 Command: /home/rapidbuild/bbs-3.21-bioc-rapid/R/bin/R CMD build --keep-empty-dirs --no-resave-data DirichletMultinomial StartedAt: 2025-01-31 06:44:50 -0500 (Fri, 31 Jan 2025) EndedAt: 2025-01-31 06:45:03 -0500 (Fri, 31 Jan 2025) EllapsedTime: 13.0 seconds RetCode: 0 Status: OK PackageFile: DirichletMultinomial_1.49.0.tar.gz PackageFileSize: 1.06 MiB