Package: DelayedMatrixStats Version: 1.29.1 Command: /home/rapidbuild/bbs-3.21-bioc-rapid/R/bin/R CMD INSTALL DelayedMatrixStats StartedAt: 2025-01-31 06:16:58 -0500 (Fri, 31 Jan 2025) EndedAt: 2025-01-31 06:17:18 -0500 (Fri, 31 Jan 2025) EllapsedTime: 20.2 seconds RetCode: 0 Status: OK