Package: DelayedMatrixStats Version: 1.29.1 Command: /home/rapidbuild/bbs-3.21-bioc-rapid/R/bin/R CMD check --install=check:DelayedMatrixStats.install-out.txt --library=/home/rapidbuild/bbs-3.21-bioc-rapid/R/site-library --timings DelayedMatrixStats_1.29.1.tar.gz StartedAt: 2025-02-07 02:17:00 -0500 (Fri, 07 Feb 2025) EndedAt: 2025-02-07 02:23:21 -0500 (Fri, 07 Feb 2025) EllapsedTime: 381.4 seconds RetCode: 1 Status: ERROR CheckDir: DelayedMatrixStats.Rcheck Warnings: NA