Package: DelayedMatrixStats Version: 1.29.1 Command: /home/rapidbuild/bbs-3.21-bioc-rapid/R/bin/R CMD build --keep-empty-dirs --no-resave-data DelayedMatrixStats StartedAt: 2025-01-31 06:42:47 -0500 (Fri, 31 Jan 2025) EndedAt: 2025-01-31 06:46:13 -0500 (Fri, 31 Jan 2025) EllapsedTime: 206.4 seconds RetCode: 0 Status: OK PackageFile: DelayedMatrixStats_1.29.1.tar.gz PackageFileSize: 264.4 KiB