Package: DelayedArray Version: 0.33.4 Command: _R_CHECK_CODETOOLS_PROFILE_="suppressFundefMismatch=TRUE" /home/rapidbuild/bbs-3.21-bioc-rapid/R/bin/R CMD check --install=check:DelayedArray.install-out.txt --library=/home/rapidbuild/bbs-3.21-bioc-rapid/R/site-library --timings DelayedArray_0.33.4.tar.gz StartedAt: 2025-01-31 08:15:55 -0500 (Fri, 31 Jan 2025) EndedAt: 2025-01-31 08:33:23 -0500 (Fri, 31 Jan 2025) EllapsedTime: 1048.1 seconds RetCode: 0 Status: WARNINGS CheckDir: DelayedArray.Rcheck Warnings: 1