Package: DEXSeq Version: 1.53.0 Command: /home/rapidbuild/bbs-3.21-bioc-rapid/R/bin/R CMD build --keep-empty-dirs --no-resave-data DEXSeq StartedAt: 2025-02-07 00:45:48 -0500 (Fri, 07 Feb 2025) EndedAt: 2025-02-07 00:46:46 -0500 (Fri, 07 Feb 2025) EllapsedTime: 58.3 seconds RetCode: 1 Status: ERROR PackageFile: None PackageFileSize: NA