Package: DESeq2 Version: 1.47.1 Command: /home/rapidbuild/bbs-3.21-bioc-rapid/R/bin/R CMD INSTALL DESeq2 StartedAt: 2025-01-31 06:19:36 -0500 (Fri, 31 Jan 2025) EndedAt: 2025-01-31 06:20:22 -0500 (Fri, 31 Jan 2025) EllapsedTime: 45.9 seconds RetCode: 0 Status: OK