Package: CompoundDb Version: 1.11.2 Command: /home/rapidbuild/bbs-3.21-bioc-rapid/R/bin/R CMD build --keep-empty-dirs --no-resave-data CompoundDb StartedAt: 2025-01-31 06:41:06 -0500 (Fri, 31 Jan 2025) EndedAt: 2025-01-31 06:41:36 -0500 (Fri, 31 Jan 2025) EllapsedTime: 29.2 seconds RetCode: 0 Status: OK PackageFile: CompoundDb_1.11.2.tar.gz PackageFileSize: 1.303 MiB