Package: ComplexHeatmap Version: 2.23.0 Command: /home/rapidbuild/bbs-3.21-bioc-rapid/R/bin/R CMD check --install=check:ComplexHeatmap.install-out.txt --library=/home/rapidbuild/bbs-3.21-bioc-rapid/R/site-library --timings ComplexHeatmap_2.23.0.tar.gz StartedAt: 2025-02-07 02:14:06 -0500 (Fri, 07 Feb 2025) EndedAt: 2025-02-07 02:18:14 -0500 (Fri, 07 Feb 2025) EllapsedTime: 248.0 seconds RetCode: 0 Status: OK CheckDir: ComplexHeatmap.Rcheck Warnings: 0