Package: ComplexHeatmap Version: 2.23.0 Command: /home/rapidbuild/bbs-3.21-bioc-rapid/R/bin/R CMD build --keep-empty-dirs --no-resave-data ComplexHeatmap StartedAt: 2025-02-07 00:41:56 -0500 (Fri, 07 Feb 2025) EndedAt: 2025-02-07 00:42:20 -0500 (Fri, 07 Feb 2025) EllapsedTime: 24.3 seconds RetCode: 0 Status: OK PackageFile: ComplexHeatmap_2.23.0.tar.gz PackageFileSize: 1.392 MiB