Package: ChemmineR Version: 3.59.0 Command: /home/rapidbuild/bbs-3.21-bioc-rapid/R/bin/R CMD check --install=check:ChemmineR.install-out.txt --library=/home/rapidbuild/bbs-3.21-bioc-rapid/R/site-library --timings ChemmineR_3.59.0.tar.gz StartedAt: 2025-01-31 02:16:33 -0500 (Fri, 31 Jan 2025) EndedAt: 2025-01-31 02:19:08 -0500 (Fri, 31 Jan 2025) EllapsedTime: 155.5 seconds RetCode: 0 Status: WARNINGS CheckDir: ChemmineR.Rcheck Warnings: 2