Package: ChemmineR Version: 3.59.0 Command: /home/rapidbuild/bbs-3.21-bioc-rapid/R/bin/R CMD build --keep-empty-dirs --no-resave-data ChemmineR StartedAt: 2025-01-31 06:40:04 -0500 (Fri, 31 Jan 2025) EndedAt: 2025-01-31 06:41:24 -0500 (Fri, 31 Jan 2025) EllapsedTime: 79.6 seconds RetCode: 1 Status: ERROR PackageFile: None PackageFileSize: NA