Package: ChemmineOB Version: 1.45.0 Command: /home/rapidbuild/bbs-3.21-bioc-rapid/R/bin/R CMD check --install=check:ChemmineOB.install-out.txt --library=/home/rapidbuild/bbs-3.21-bioc-rapid/R/site-library --timings ChemmineOB_1.45.0.tar.gz StartedAt: 2025-01-31 08:12:14 -0500 (Fri, 31 Jan 2025) EndedAt: 2025-01-31 08:13:17 -0500 (Fri, 31 Jan 2025) EllapsedTime: 62.8 seconds RetCode: 0 Status: WARNINGS CheckDir: ChemmineOB.Rcheck Warnings: 3