Package: ChemmineOB Version: 1.45.0 Command: /home/rapidbuild/bbs-3.21-bioc-rapid/R/bin/R CMD build --keep-empty-dirs --no-resave-data ChemmineOB StartedAt: 2025-01-31 06:40:02 -0500 (Fri, 31 Jan 2025) EndedAt: 2025-01-31 06:41:34 -0500 (Fri, 31 Jan 2025) EllapsedTime: 92.5 seconds RetCode: 0 Status: OK PackageFile: ChemmineOB_1.45.0.tar.gz PackageFileSize: 1.303 MiB