Package: BumpyMatrix Version: 1.15.0 Command: /home/rapidbuild/bbs-3.21-bioc-rapid/R/bin/R CMD check --install=check:BumpyMatrix.install-out.txt --library=/home/rapidbuild/bbs-3.21-bioc-rapid/R/site-library --timings BumpyMatrix_1.15.0.tar.gz StartedAt: 2025-02-01 13:58:50 -0500 (Sat, 01 Feb 2025) EndedAt: 2025-02-01 14:00:02 -0500 (Sat, 01 Feb 2025) EllapsedTime: 72.0 seconds RetCode: 0 Status: OK CheckDir: BumpyMatrix.Rcheck Warnings: 0