Package: Biostrings Version: 2.75.3 Command: /home/rapidbuild/bbs-3.21-bioc-rapid/R/bin/R CMD INSTALL Biostrings StartedAt: 2025-01-31 06:18:15 -0500 (Fri, 31 Jan 2025) EndedAt: 2025-01-31 06:18:43 -0500 (Fri, 31 Jan 2025) EllapsedTime: 28.6 seconds RetCode: 0 Status: OK