Package: Biostrings Version: 2.75.3 Command: /home/rapidbuild/bbs-3.21-bioc-rapid/R/bin/R CMD check --install=check:Biostrings.install-out.txt --library=/home/rapidbuild/bbs-3.21-bioc-rapid/R/site-library --timings Biostrings_2.75.3.tar.gz StartedAt: 2025-02-07 02:05:21 -0500 (Fri, 07 Feb 2025) EndedAt: 2025-02-07 02:12:42 -0500 (Fri, 07 Feb 2025) EllapsedTime: 441.4 seconds RetCode: 0 Status: WARNINGS CheckDir: Biostrings.Rcheck Warnings: 1