Package: BiocVersion Version: 3.21.1 Command: /home/rapidbuild/bbs-3.21-bioc-rapid/R/bin/R CMD check --install=check:BiocVersion.install-out.txt --library=/home/rapidbuild/bbs-3.21-bioc-rapid/R/site-library --timings BiocVersion_3.21.1.tar.gz StartedAt: 2025-01-31 08:05:38 -0500 (Fri, 31 Jan 2025) EndedAt: 2025-01-31 08:05:47 -0500 (Fri, 31 Jan 2025) EllapsedTime: 9.0 seconds RetCode: 0 Status: OK CheckDir: BiocVersion.Rcheck Warnings: 0