Package: BiocVersion Version: 3.21.1 Command: /home/rapidbuild/bbs-3.21-bioc-rapid/R/bin/R CMD build --keep-empty-dirs --no-resave-data BiocVersion StartedAt: 2025-01-31 06:37:17 -0500 (Fri, 31 Jan 2025) EndedAt: 2025-01-31 06:37:18 -0500 (Fri, 31 Jan 2025) EllapsedTime: 1.0 seconds RetCode: 0 Status: OK PackageFile: BiocVersion_3.21.1.tar.gz PackageFileSize: 999 bytes