Package: BiocParallel Version: 1.41.0 Command: /home/rapidbuild/bbs-3.21-bioc-rapid/R/bin/R CMD build --keep-empty-dirs --no-resave-data BiocParallel StartedAt: 2025-01-31 06:36:45 -0500 (Fri, 31 Jan 2025) EndedAt: 2025-01-31 06:38:49 -0500 (Fri, 31 Jan 2025) EllapsedTime: 124.3 seconds RetCode: 0 Status: OK PackageFile: BiocParallel_1.41.0.tar.gz PackageFileSize: 974.1 KiB