Package: BiocFileCache Version: 2.15.1 Command: /home/rapidbuild/bbs-3.21-bioc-rapid/R/bin/R CMD INSTALL BiocFileCache StartedAt: 2025-01-31 06:18:02 -0500 (Fri, 31 Jan 2025) EndedAt: 2025-01-31 06:18:08 -0500 (Fri, 31 Jan 2025) EllapsedTime: 5.6 seconds RetCode: 0 Status: OK