Package: BiocFileCache Version: 2.15.1 Command: /home/rapidbuild/bbs-3.21-bioc-rapid/R/bin/R CMD check --install=check:BiocFileCache.install-out.txt --library=/home/rapidbuild/bbs-3.21-bioc-rapid/R/site-library --timings BiocFileCache_2.15.1.tar.gz StartedAt: 2025-01-31 08:02:26 -0500 (Fri, 31 Jan 2025) EndedAt: 2025-01-31 08:04:06 -0500 (Fri, 31 Jan 2025) EllapsedTime: 100.0 seconds RetCode: 0 Status: OK CheckDir: BiocFileCache.Rcheck Warnings: 0