Package: BiocFileCache Version: 2.15.1 Command: /home/rapidbuild/bbs-3.21-bioc-rapid/R/bin/R CMD build --keep-empty-dirs --no-resave-data BiocFileCache StartedAt: 2025-01-31 06:35:48 -0500 (Fri, 31 Jan 2025) EndedAt: 2025-01-31 06:36:45 -0500 (Fri, 31 Jan 2025) EllapsedTime: 57.0 seconds RetCode: 0 Status: OK PackageFile: BiocFileCache_2.15.1.tar.gz PackageFileSize: 722.4 KiB