Package: Biobase Version: 2.67.0 Command: /home/rapidbuild/bbs-3.21-bioc-rapid/R/bin/R CMD INSTALL Biobase StartedAt: 2025-01-31 06:09:52 -0500 (Fri, 31 Jan 2025) EndedAt: 2025-01-31 06:10:00 -0500 (Fri, 31 Jan 2025) EllapsedTime: 8.2 seconds RetCode: 0 Status: OK