Package: Biobase Version: 2.67.0 Command: /home/rapidbuild/bbs-3.21-bioc-rapid/R/bin/R CMD build --keep-empty-dirs --no-resave-data Biobase StartedAt: 2025-01-31 06:35:27 -0500 (Fri, 31 Jan 2025) EndedAt: 2025-01-31 06:35:43 -0500 (Fri, 31 Jan 2025) EllapsedTime: 16.0 seconds RetCode: 0 Status: OK PackageFile: Biobase_2.67.0.tar.gz PackageFileSize: 1.886 MiB