Package: BSgenomeForge Version: 1.7.0 Command: /home/rapidbuild/bbs-3.21-bioc-rapid/R/bin/R CMD INSTALL BSgenomeForge StartedAt: 2025-02-01 12:23:25 -0500 (Sat, 01 Feb 2025) EndedAt: 2025-02-01 12:23:51 -0500 (Sat, 01 Feb 2025) EllapsedTime: 26.8 seconds RetCode: 0 Status: OK