Package: BSgenome Version: 1.75.1 Command: /home/rapidbuild/bbs-3.21-bioc-rapid/R/bin/R CMD check --install=check:BSgenome.install-out.txt --library=/home/rapidbuild/bbs-3.21-bioc-rapid/R/site-library --timings BSgenome_1.75.1.tar.gz StartedAt: 2025-01-31 08:08:23 -0500 (Fri, 31 Jan 2025) EndedAt: 2025-01-31 08:14:29 -0500 (Fri, 31 Jan 2025) EllapsedTime: 366.1 seconds RetCode: 0 Status: WARNINGS CheckDir: BSgenome.Rcheck Warnings: 1