Package: BSgenome Version: 1.75.1 Command: /home/rapidbuild/bbs-3.21-bioc-rapid/R/bin/R CMD build --keep-empty-dirs --no-resave-data BSgenome StartedAt: 2025-01-31 06:38:50 -0500 (Fri, 31 Jan 2025) EndedAt: 2025-01-31 06:40:17 -0500 (Fri, 31 Jan 2025) EllapsedTime: 87.6 seconds RetCode: 0 Status: OK PackageFile: BSgenome_1.75.1.tar.gz PackageFileSize: 5.629 MiB