Package: AnnotationHubData Version: 1.37.0 Command: /home/rapidbuild/bbs-3.21-bioc-rapid/R/bin/R CMD INSTALL AnnotationHubData StartedAt: 2025-01-31 06:27:08 -0500 (Fri, 31 Jan 2025) EndedAt: 2025-01-31 06:27:46 -0500 (Fri, 31 Jan 2025) EllapsedTime: 37.9 seconds RetCode: 0 Status: OK