Package: AnnotationHubData Version: 1.37.0 Command: /home/rapidbuild/bbs-3.21-bioc-rapid/R/bin/R CMD build --keep-empty-dirs --no-resave-data AnnotationHubData StartedAt: 2025-01-31 06:32:41 -0500 (Fri, 31 Jan 2025) EndedAt: 2025-01-31 06:33:22 -0500 (Fri, 31 Jan 2025) EllapsedTime: 41.3 seconds RetCode: 0 Status: OK PackageFile: AnnotationHubData_1.37.0.tar.gz PackageFileSize: 400.4 KiB