Package: AnnotationHub Version: 3.15.0 Command: /home/rapidbuild/bbs-3.21-bioc-rapid/R/bin/R CMD INSTALL AnnotationHub StartedAt: 2025-01-31 06:21:44 -0500 (Fri, 31 Jan 2025) EndedAt: 2025-01-31 06:21:59 -0500 (Fri, 31 Jan 2025) EllapsedTime: 14.2 seconds RetCode: 0 Status: OK