Package: AnnotationForge Version: 1.49.0 Command: /home/rapidbuild/bbs-3.21-bioc-rapid/R/bin/R CMD INSTALL AnnotationForge StartedAt: 2025-02-07 00:22:36 -0500 (Fri, 07 Feb 2025) EndedAt: 2025-02-07 00:22:50 -0500 (Fri, 07 Feb 2025) EllapsedTime: 14.2 seconds RetCode: 0 Status: OK