Package: AnnotationForge Version: 1.49.0 Command: /home/rapidbuild/bbs-3.21-bioc-rapid/R/bin/R CMD check --install=check:AnnotationForge.install-out.txt --library=/home/rapidbuild/bbs-3.21-bioc-rapid/R/site-library --timings AnnotationForge_1.49.0.tar.gz StartedAt: 2025-02-07 01:52:44 -0500 (Fri, 07 Feb 2025) EndedAt: 2025-02-07 01:57:23 -0500 (Fri, 07 Feb 2025) EllapsedTime: 279.5 seconds RetCode: 0 Status: OK CheckDir: AnnotationForge.Rcheck Warnings: 0