############################################################################## ############################################################################## ### ### Running command: ### ### /home/rapidbuild/bbs-3.21-bioc-rapid/R/bin/R CMD build --keep-empty-dirs --no-resave-data AnnotationForge ### ############################################################################## ############################################################################## * checking for file ‘AnnotationForge/DESCRIPTION’ ... OK cp: error writing '/tmp/RtmpB4xE0c/Rbuild2cb3ff380d7187/AnnotationForge/inst/AnnDbPkg-templates/ARABIDOPSIS.DB/tests/unit/test.R': No space left on device cp: error writing '/tmp/RtmpB4xE0c/Rbuild2cb3ff380d7187/AnnotationForge/inst/AnnDbPkg-templates/ARABIDOPSIS.DB/tests/runalltests.R': No space left on device cp: error writing '/tmp/RtmpB4xE0c/Rbuild2cb3ff380d7187/AnnotationForge/inst/AnnDbPkg-templates/ARABIDOPSIS.DB/DESCRIPTION': No space left on device cp: error writing '/tmp/RtmpB4xE0c/Rbuild2cb3ff380d7187/AnnotationForge/inst/AnnDbPkg-templates/ARABIDOPSIS.DB/NAMESPACE': No space left on device cp: cannot create directory '/tmp/RtmpB4xE0c/Rbuild2cb3ff380d7187/AnnotationForge/inst/AnnDbPkg-templates/ARABIDOPSISCHIP.DB': No space left on device cp: cannot create directory '/tmp/RtmpB4xE0c/Rbuild2cb3ff380d7187/AnnotationForge/inst/AnnDbPkg-templates/BASEPKG.DB': No space left on device cp: cannot create directory '/tmp/RtmpB4xE0c/Rbuild2cb3ff380d7187/AnnotationForge/inst/AnnDbPkg-templates/COELICOLOR.DB': No space left on device cp: cannot create directory '/tmp/RtmpB4xE0c/Rbuild2cb3ff380d7187/AnnotationForge/inst/AnnDbPkg-templates/GO.DB': No space left on device cp: cannot create directory '/tmp/RtmpB4xE0c/Rbuild2cb3ff380d7187/AnnotationForge/inst/AnnDbPkg-templates/INPARANOID.DB': No space left on device cp: cannot create directory '/tmp/RtmpB4xE0c/Rbuild2cb3ff380d7187/AnnotationForge/inst/AnnDbPkg-templates/KEGG.DB': No space left on device cp: cannot create directory '/tmp/RtmpB4xE0c/Rbuild2cb3ff380d7187/AnnotationForge/inst/AnnDbPkg-templates/MALARIA.DB': No space left on device cp: cannot create directory '/tmp/RtmpB4xE0c/Rbuild2cb3ff380d7187/AnnotationForge/inst/AnnDbPkg-templates/NCBICHIP.DB': No space left on device cp: cannot create directory '/tmp/RtmpB4xE0c/Rbuild2cb3ff380d7187/AnnotationForge/inst/AnnDbPkg-templates/NCBIORG.DB': No space left on device cp: cannot create directory '/tmp/RtmpB4xE0c/Rbuild2cb3ff380d7187/AnnotationForge/inst/AnnDbPkg-templates/NOCHIPSCHEMA.DB': No space left on device cp: cannot create directory '/tmp/RtmpB4xE0c/Rbuild2cb3ff380d7187/AnnotationForge/inst/AnnDbPkg-templates/NOSCHEMA.DB': No space left on device cp: cannot create directory '/tmp/RtmpB4xE0c/Rbuild2cb3ff380d7187/AnnotationForge/inst/AnnDbPkg-templates/ORGANISM.DB': No space left on device cp: cannot create directory '/tmp/RtmpB4xE0c/Rbuild2cb3ff380d7187/AnnotationForge/inst/AnnDbPkg-templates/ORTHOLOGY.DB': No space left on device cp: cannot create directory '/tmp/RtmpB4xE0c/Rbuild2cb3ff380d7187/AnnotationForge/inst/AnnDbPkg-templates/PFAM.DB': No space left on device cp: cannot create directory '/tmp/RtmpB4xE0c/Rbuild2cb3ff380d7187/AnnotationForge/inst/AnnDbPkg-templates/YEAST.DB': No space left on device cp: cannot create directory '/tmp/RtmpB4xE0c/Rbuild2cb3ff380d7187/AnnotationForge/inst/AnnDbPkg-templates/YEASTCHIP.DB': No space left on device cp: cannot create directory '/tmp/RtmpB4xE0c/Rbuild2cb3ff380d7187/AnnotationForge/inst/AnnDbPkg-templates/YEASTNCBI.DB': No space left on device cp: cannot create directory '/tmp/RtmpB4xE0c/Rbuild2cb3ff380d7187/AnnotationForge/inst/ProbePkg-template': No space left on device cp: cannot create directory '/tmp/RtmpB4xE0c/Rbuild2cb3ff380d7187/AnnotationForge/inst/extdata': No space left on device cp: cannot create directory '/tmp/RtmpB4xE0c/Rbuild2cb3ff380d7187/AnnotationForge/inst/script': No space left on device cp: cannot create directory '/tmp/RtmpB4xE0c/Rbuild2cb3ff380d7187/AnnotationForge/inst/seqnames-template': No space left on device cp: cannot create directory '/tmp/RtmpB4xE0c/Rbuild2cb3ff380d7187/AnnotationForge/inst/unitTests': No space left on device cp: error writing '/tmp/RtmpB4xE0c/Rbuild2cb3ff380d7187/AnnotationForge/inst/NOTES-Herve': No space left on device cp: error writing '/tmp/RtmpB4xE0c/Rbuild2cb3ff380d7187/AnnotationForge/inst/TODO': No space left on device cp: cannot create directory '/tmp/RtmpB4xE0c/Rbuild2cb3ff380d7187/AnnotationForge/man': No space left on device cp: cannot create directory '/tmp/RtmpB4xE0c/Rbuild2cb3ff380d7187/AnnotationForge/tests': No space left on device cp: cannot create directory '/tmp/RtmpB4xE0c/Rbuild2cb3ff380d7187/AnnotationForge/vignettes': No space left on device cp: error writing '/tmp/RtmpB4xE0c/Rbuild2cb3ff380d7187/AnnotationForge/NAMESPACE': No space left on device cp: error writing '/tmp/RtmpB4xE0c/Rbuild2cb3ff380d7187/AnnotationForge/NEWS': No space left on device cp: error writing '/tmp/RtmpB4xE0c/Rbuild2cb3ff380d7187/AnnotationForge/README.md': No space left on device ERROR copying to build directory failed