Package: xcms Version: 4.4.0 Command: /home/biocbuild/bbs-3.20-bioc/R/bin/R CMD check --test-dir=longtests --no-stop-on-test-error --no-codoc --no-examples --no-manual --ignore-vignettes --check-subdirs=no xcms_4.4.0.tar.gz StartedAt: 2025-01-25 16:21:44 -0500 (Sat, 25 Jan 2025) EndedAt: 2025-01-25 16:27:56 -0500 (Sat, 25 Jan 2025) EllapsedTime: 372.0 seconds RetCode: 1 Status: ERROR CheckDir: xcms.Rcheck Warnings: NA