Package: rhdf5 Version: 2.50.2 Command: /home/biocbuild/bbs-3.20-bioc/R/bin/R CMD check --test-dir=longtests --no-stop-on-test-error --no-codoc --no-examples --no-manual --ignore-vignettes --check-subdirs=no rhdf5_2.50.2.tar.gz StartedAt: 2025-03-29 16:22:56 -0400 (Sat, 29 Mar 2025) EndedAt: 2025-03-29 16:24:30 -0400 (Sat, 29 Mar 2025) EllapsedTime: 94.0 seconds RetCode: 0 Status: OK CheckDir: rhdf5.Rcheck Warnings: 0