Package: ginmappeR Version: 1.2.3 Command: /Library/Frameworks/R.framework/Resources/bin/R CMD check --test-dir=longtests --no-stop-on-test-error --no-codoc --no-examples --no-manual --ignore-vignettes --check-subdirs=no ginmappeR_1.2.3.tar.gz StartedAt: 2025-03-29 16:11:09 -0400 (Sat, 29 Mar 2025) EndedAt: 2025-03-29 16:15:53 -0400 (Sat, 29 Mar 2025) EllapsedTime: 283.7 seconds RetCode: 1 Status: ERROR CheckDir: ginmappeR.Rcheck Warnings: NA