Package: ginmappeR Version: 1.2.1 Command: /Library/Frameworks/R.framework/Resources/bin/R CMD check --test-dir=longtests --no-stop-on-test-error --no-codoc --no-examples --no-manual --ignore-vignettes --check-subdirs=no ginmappeR_1.2.1.tar.gz StartedAt: 2024-11-16 16:21:31 -0500 (Sat, 16 Nov 2024) EndedAt: 2024-11-16 17:03:21 -0500 (Sat, 16 Nov 2024) EllapsedTime: 2510.2 seconds RetCode: 0 Status: OK CheckDir: ginmappeR.Rcheck Warnings: 0