Package: extraChIPs Version: 1.10.0 Command: F:\biocbuild\bbs-3.20-bioc\R\bin\R.exe CMD check --no-multiarch --test-dir=longtests --no-stop-on-test-error --no-codoc --no-examples --no-manual --ignore-vignettes --check-subdirs=no extraChIPs_1.10.0.tar.gz StartedAt: 2025-01-25 16:09:30 -0500 (Sat, 25 Jan 2025) EndedAt: 2025-01-25 16:16:47 -0500 (Sat, 25 Jan 2025) EllapsedTime: 436.8 seconds RetCode: 0 Status: OK CheckDir: extraChIPs.Rcheck Warnings: 0