Package: extraChIPs Version: 1.10.0 Command: /home/biocbuild/bbs-3.20-bioc/R/bin/R CMD check --test-dir=longtests --no-stop-on-test-error --no-codoc --no-examples --no-manual --ignore-vignettes --check-subdirs=no extraChIPs_1.10.0.tar.gz StartedAt: 2025-01-25 16:11:04 -0500 (Sat, 25 Jan 2025) EndedAt: 2025-01-25 16:16:53 -0500 (Sat, 25 Jan 2025) EllapsedTime: 349.1 seconds RetCode: 0 Status: OK CheckDir: extraChIPs.Rcheck Warnings: 0